{ "currentVersion": 11.3, "cimVersion": "3.3.0", "serviceDescription": "
MB Road Chainage Cache 2020<\/SPAN><\/P><\/DIV>",
"mapName": "Layers",
"description": "",
"copyrightText": "",
"supportsDynamicLayers": true,
"layers": [
{
"id": 0,
"name": "TRC_Background_Layers",
"parentLayerId": -1,
"defaultVisibility": true,
"subLayerIds": [
1,
2,
3,
4,
5,
6,
7,
8,
9,
10,
11,
12,
13,
14,
15,
16,
17,
18,
19,
20,
21,
22,
23,
24,
25,
26,
27,
28,
29,
30,
31,
32,
33,
34,
35,
36,
37,
38,
39,
40,
41,
42,
43,
44
],
"minScale": 0,
"maxScale": 0,
"type": "Group Layer",
"supportsDynamicLegends": false
},
{
"id": 1,
"name": "Mountains",
"parentLayerId": 0,
"defaultVisibility": true,
"subLayerIds": null,
"minScale": 250000,
"maxScale": 0,
"type": "Feature Layer",
"geometryType": "esriGeometryPoint",
"supportsDynamicLegends": true
},
{
"id": 2,
"name": "Airport",
"parentLayerId": 0,
"defaultVisibility": true,
"subLayerIds": null,
"minScale": 250000,
"maxScale": 20001,
"type": "Feature Layer",
"geometryType": "esriGeometryPoint",
"supportsDynamicLegends": true
},
{
"id": 3,
"name": "City",
"parentLayerId": 0,
"defaultVisibility": true,
"subLayerIds": null,
"minScale": 0,
"maxScale": 125000,
"type": "Feature Layer",
"geometryType": "esriGeometryPoint",
"supportsDynamicLegends": true
},
{
"id": 4,
"name": "Town",
"parentLayerId": 0,
"defaultVisibility": true,
"subLayerIds": null,
"minScale": 500000,
"maxScale": 125000,
"type": "Feature Layer",
"geometryType": "esriGeometryPoint",
"supportsDynamicLegends": true
},
{
"id": 5,
"name": "Town 2",
"parentLayerId": 0,
"defaultVisibility": true,
"subLayerIds": null,
"minScale": 0,
"maxScale": 500001,
"type": "Feature Layer",
"geometryType": "esriGeometryPoint",
"supportsDynamicLegends": true
},
{
"id": 6,
"name": "Railway",
"parentLayerId": 0,
"defaultVisibility": true,
"subLayerIds": null,
"minScale": 125000,
"maxScale": 0,
"type": "Feature Layer",
"geometryType": "esriGeometryPolyline",
"supportsDynamicLegends": true
},
{
"id": 7,
"name": "Radio Tower Locations",
"parentLayerId": 0,
"defaultVisibility": true,
"subLayerIds": null,
"minScale": 250000,
"maxScale": 0,
"type": "Feature Layer",
"geometryType": "esriGeometryPoint",
"supportsDynamicLegends": true
},
{
"id": 8,
"name": "Traffic Signal",
"parentLayerId": 0,
"defaultVisibility": true,
"subLayerIds": null,
"minScale": 25000,
"maxScale": 4001,
"type": "Feature Layer",
"geometryType": "esriGeometryPoint",
"supportsDynamicLegends": true
},
{
"id": 9,
"name": "Roundabout",
"parentLayerId": 0,
"defaultVisibility": true,
"subLayerIds": null,
"minScale": 25000,
"maxScale": 4001,
"type": "Feature Layer",
"geometryType": "esriGeometryPoint",
"supportsDynamicLegends": true
},
{
"id": 10,
"name": "Roads 5 k",
"parentLayerId": 0,
"defaultVisibility": true,
"subLayerIds": null,
"minScale": 5000,
"maxScale": 0,
"type": "Feature Layer",
"geometryType": "esriGeometryPolyline",
"supportsDynamicLegends": true
},
{
"id": 11,
"name": "Roads 10 k Labels",
"parentLayerId": 0,
"defaultVisibility": true,
"subLayerIds": null,
"minScale": 10000,
"maxScale": 5001,
"type": "Feature Layer",
"geometryType": "esriGeometryPolyline",
"supportsDynamicLegends": true
},
{
"id": 12,
"name": "Council Chainage 2k",
"parentLayerId": 0,
"defaultVisibility": true,
"subLayerIds": null,
"minScale": 2000,
"maxScale": 0,
"type": "Feature Layer",
"geometryType": "esriGeometryPolyline",
"supportsDynamicLegends": true
},
{
"id": 13,
"name": "Council Chainage 5k",
"parentLayerId": 0,
"defaultVisibility": true,
"subLayerIds": null,
"minScale": 5000,
"maxScale": 2001,
"type": "Feature Layer",
"geometryType": "esriGeometryPolyline",
"supportsDynamicLegends": true
},
{
"id": 14,
"name": "Council Chainage Line",
"parentLayerId": 0,
"defaultVisibility": true,
"subLayerIds": null,
"minScale": 5000,
"maxScale": 0,
"type": "Feature Layer",
"geometryType": "esriGeometryPolyline",
"supportsDynamicLegends": true
},
{
"id": 15,
"name": "RMPC Chainage 5k",
"parentLayerId": 0,
"defaultVisibility": true,
"subLayerIds": null,
"minScale": 5000,
"maxScale": 2001,
"type": "Feature Layer",
"geometryType": "esriGeometryPoint",
"supportsDynamicLegends": true
},
{
"id": 16,
"name": "RMPC Chainage",
"parentLayerId": 0,
"defaultVisibility": true,
"subLayerIds": null,
"minScale": 2000,
"maxScale": 0,
"type": "Feature Layer",
"geometryType": "esriGeometryPoint",
"supportsDynamicLegends": true
},
{
"id": 17,
"name": "Roads 20 k",
"parentLayerId": 0,
"defaultVisibility": true,
"subLayerIds": null,
"minScale": 24000,
"maxScale": 10001,
"type": "Feature Layer",
"geometryType": "esriGeometryPolyline",
"supportsDynamicLegends": true
},
{
"id": 18,
"name": "Roads 50 k",
"parentLayerId": 0,
"defaultVisibility": true,
"subLayerIds": null,
"minScale": 50000,
"maxScale": 24001,
"type": "Feature Layer",
"geometryType": "esriGeometryPolyline",
"supportsDynamicLegends": true
},
{
"id": 19,
"name": "Roads 250 k",
"parentLayerId": 0,
"defaultVisibility": true,
"subLayerIds": null,
"minScale": 250000,
"maxScale": 50001,
"type": "Feature Layer",
"geometryType": "esriGeometryPolyline",
"supportsDynamicLegends": true
},
{
"id": 20,
"name": "Roads 500 k",
"parentLayerId": 0,
"defaultVisibility": true,
"subLayerIds": null,
"minScale": 500000,
"maxScale": 250001,
"type": "Feature Layer",
"geometryType": "esriGeometryPolyline",
"supportsDynamicLegends": true
},
{
"id": 21,
"name": "Roads 1000 k",
"parentLayerId": 0,
"defaultVisibility": true,
"subLayerIds": null,
"minScale": 0,
"maxScale": 500001,
"type": "Feature Layer",
"geometryType": "esriGeometryPolyline",
"supportsDynamicLegends": true
},
{
"id": 22,
"name": "Rail",
"parentLayerId": 0,
"defaultVisibility": true,
"subLayerIds": null,
"minScale": 500000,
"maxScale": 0,
"type": "Feature Layer",
"geometryType": "esriGeometryPolyline",
"supportsDynamicLegends": true
},
{
"id": 23,
"name": "Airfield",
"parentLayerId": 0,
"defaultVisibility": true,
"subLayerIds": null,
"minScale": 100000,
"maxScale": 0,
"type": "Feature Layer",
"geometryType": "esriGeometryPolygon",
"supportsDynamicLegends": true
},
{
"id": 26,
"name": "Localities 125k",
"parentLayerId": 0,
"defaultVisibility": true,
"subLayerIds": null,
"minScale": 250000,
"maxScale": 125001,
"type": "Feature Layer",
"geometryType": "esriGeometryPolygon",
"supportsDynamicLegends": true
},
{
"id": 27,
"name": "Localities Boundaries",
"parentLayerId": 0,
"defaultVisibility": true,
"subLayerIds": null,
"minScale": 125000,
"maxScale": 25001,
"type": "Feature Layer",
"geometryType": "esriGeometryPolygon",
"supportsDynamicLegends": true
},
{
"id": 28,
"name": "Localities",
"parentLayerId": 0,
"defaultVisibility": true,
"subLayerIds": null,
"minScale": 25000,
"maxScale": 10001,
"type": "Feature Layer",
"geometryType": "esriGeometryPolygon",
"supportsDynamicLegends": true
},
{
"id": 29,
"name": "DCDB Labels 20k 50k",
"parentLayerId": 0,
"defaultVisibility": true,
"subLayerIds": null,
"minScale": 50000,
"maxScale": 10001,
"type": "Feature Layer",
"geometryType": "esriGeometryPolygon",
"supportsDynamicLegends": true
},
{
"id": 30,
"name": "DCDB Labels",
"parentLayerId": 0,
"defaultVisibility": true,
"subLayerIds": null,
"minScale": 10000,
"maxScale": 0,
"type": "Feature Layer",
"geometryType": "esriGeometryPolygon",
"supportsDynamicLegends": true
},
{
"id": 31,
"name": "Roads 10 k",
"parentLayerId": 0,
"defaultVisibility": true,
"subLayerIds": null,
"minScale": 10000,
"maxScale": 0,
"type": "Feature Layer",
"geometryType": "esriGeometryPolyline",
"supportsDynamicLegends": true
},
{
"id": 32,
"name": "DCDB 10k",
"parentLayerId": 0,
"defaultVisibility": true,
"subLayerIds": null,
"minScale": 10000,
"maxScale": 0,
"type": "Feature Layer",
"geometryType": "esriGeometryPolygon",
"supportsDynamicLegends": true
},
{
"id": 33,
"name": "TRC Parks",
"parentLayerId": 0,
"defaultVisibility": true,
"subLayerIds": null,
"minScale": 128000,
"maxScale": 0,
"type": "Feature Layer",
"geometryType": "esriGeometryPolygon",
"supportsDynamicLegends": true
},
{
"id": 34,
"name": "DCDB",
"parentLayerId": 0,
"defaultVisibility": true,
"subLayerIds": null,
"minScale": 9999,
"maxScale": 0,
"type": "Feature Layer",
"geometryType": "esriGeometryPolygon",
"supportsDynamicLegends": true
},
{
"id": 35,
"name": "Council Boundary",
"parentLayerId": 0,
"defaultVisibility": true,
"subLayerIds": null,
"minScale": 0,
"maxScale": 0,
"type": "Feature Layer",
"geometryType": "esriGeometryPolygon",
"supportsDynamicLegends": true
},
{
"id": 36,
"name": "LGA",
"parentLayerId": 0,
"defaultVisibility": true,
"subLayerIds": null,
"minScale": 0,
"maxScale": 2000,
"type": "Feature Layer",
"geometryType": "esriGeometryPolygon",
"supportsDynamicLegends": true
},
{
"id": 37,
"name": "Dam Lake",
"parentLayerId": 0,
"defaultVisibility": true,
"subLayerIds": null,
"minScale": 250000,
"maxScale": 0,
"type": "Feature Layer",
"geometryType": "esriGeometryPolygon",
"supportsDynamicLegends": true
},
{
"id": 39,
"name": "Parks",
"parentLayerId": 0,
"defaultVisibility": true,
"subLayerIds": null,
"minScale": 0,
"maxScale": 0,
"type": "Feature Layer",
"geometryType": "esriGeometryPolygon",
"supportsDynamicLegends": true
},
{
"id": 40,
"name": "Urban Extent",
"parentLayerId": 0,
"defaultVisibility": true,
"subLayerIds": null,
"minScale": 75000,
"maxScale": 0,
"type": "Feature Layer",
"geometryType": "esriGeometryPolygon",
"supportsDynamicLegends": true
},
{
"id": 41,
"name": "Urban Extent_75k",
"parentLayerId": 0,
"defaultVisibility": true,
"subLayerIds": null,
"minScale": 150000,
"maxScale": 75001,
"type": "Feature Layer",
"geometryType": "esriGeometryPolygon",
"supportsDynamicLegends": true
},
{
"id": 42,
"name": "Urban Extent 150k",
"parentLayerId": 0,
"defaultVisibility": true,
"subLayerIds": null,
"minScale": 0,
"maxScale": 150001,
"type": "Feature Layer",
"geometryType": "esriGeometryPolygon",
"supportsDynamicLegends": true
},
{
"id": 43,
"name": "Toowoomba Region",
"parentLayerId": 0,
"defaultVisibility": true,
"subLayerIds": null,
"minScale": 0,
"maxScale": 0,
"type": "Feature Layer",
"geometryType": "esriGeometryPolygon",
"supportsDynamicLegends": true
},
{
"id": 44,
"name": "State Boundary",
"parentLayerId": 0,
"defaultVisibility": true,
"subLayerIds": null,
"minScale": 0,
"maxScale": 0,
"type": "Feature Layer",
"geometryType": "esriGeometryPolygon",
"supportsDynamicLegends": true
}
],
"tables": [],
"spatialReference": {
"wkid": 102100,
"latestWkid": 3857,
"xyTolerance": 0.001,
"zTolerance": 0.001,
"mTolerance": 0.001,
"falseX": -20037700,
"falseY": -30241100,
"xyUnits": 10000,
"falseZ": -100000,
"zUnits": 10000,
"falseM": -100000,
"mUnits": 10000
},
"singleFusedMapCache": true,
"tileInfo": {
"rows": 256,
"cols": 256,
"dpi": 96,
"format": "PNG",
"compressionQuality": 0,
"origin": {
"x": -2.0037508342787E7,
"y": 2.0037508342787E7
},
"spatialReference": {
"wkid": 102100,
"latestWkid": 3857,
"xyTolerance": 0.001,
"zTolerance": 0.001,
"mTolerance": 0.001,
"falseX": -20037700,
"falseY": -30241100,
"xyUnits": 1.4892314192838538E8,
"falseZ": -100000,
"zUnits": 10000,
"falseM": -100000,
"mUnits": 10000
},
"lods": [
{
"level": 0,
"resolution": 156543.033928,
"scale": 5.91657527591555E8
},
{
"level": 1,
"resolution": 78271.5169639999,
"scale": 2.95828763795777E8
},
{
"level": 2,
"resolution": 39135.7584820001,
"scale": 1.47914381897889E8
},
{
"level": 3,
"resolution": 19567.8792409999,
"scale": 7.3957190948944E7
},
{
"level": 4,
"resolution": 9783.93962049996,
"scale": 3.6978595474472E7
},
{
"level": 5,
"resolution": 4891.96981024998,
"scale": 1.8489297737236E7
},
{
"level": 6,
"resolution": 2445.98490512499,
"scale": 9244648.868618
},
{
"level": 7,
"resolution": 1222.99245256249,
"scale": 4622324.434309
},
{
"level": 8,
"resolution": 611.49622628138,
"scale": 2311162.217155
},
{
"level": 9,
"resolution": 305.748113140558,
"scale": 1155581.108577
},
{
"level": 10,
"resolution": 152.874056570411,
"scale": 577790.554289
},
{
"level": 11,
"resolution": 76.4370282850732,
"scale": 288895.277144
},
{
"level": 12,
"resolution": 38.2185141425366,
"scale": 144447.638572
},
{
"level": 13,
"resolution": 19.1092570712683,
"scale": 72223.819286
},
{
"level": 14,
"resolution": 9.55462853563415,
"scale": 36111.909643
},
{
"level": 15,
"resolution": 4.77731426794937,
"scale": 18055.954822
},
{
"level": 16,
"resolution": 2.38865713397468,
"scale": 9027.977411
},
{
"level": 17,
"resolution": 1.19432856685505,
"scale": 4513.988705
},
{
"level": 18,
"resolution": 0.597164283559817,
"scale": 2256.994353
},
{
"level": 19,
"resolution": 0.298582141647617,
"scale": 1128.497176
},
{
"level": 20,
"resolution": 0.14929107082380833,
"scale": 564.248588
},
{
"level": 21,
"resolution": 0.07464553541190416,
"scale": 282.124294
},
{
"level": 22,
"resolution": 0.03732276770595208,
"scale": 141.062147
},
{
"level": 23,
"resolution": 0.01866138385297604,
"scale": 70.5310735
}
]
},
"storageInfo": {
"storageFormat": "esriMapCacheStorageModeCompactV2",
"packetSize": 128
},
"initialExtent": {
"xmin": 1.691362597719864E7,
"ymin": -3196269.773767672,
"xmax": 1.6917812137821186E7,
"ymax": -3192706.200773125,
"spatialReference": {
"cs": "pcs",
"wkid": 102100
}
},
"fullExtent": {
"xmin": 1.6738754413431328E7,
"ymin": -3288284.5445948914,
"xmax": 1.699603554383848E7,
"ymax": -3087462.4075075355,
"spatialReference": {
"cs": "pcs",
"wkid": 102100
}
},
"datesInUnknownTimezone": false,
"minScale": 5.91657527591555E8,
"maxScale": 564.248588,
"minLOD": 0,
"maxLOD": 19,
"units": "esriMeters",
"supportedImageFormatTypes": "PNG32,PNG24,PNG,JPG,DIB,TIFF,EMF,PS,PDF,GIF,SVG,SVGZ,BMP",
"documentInfo": {
"Title": "MB Road Chainage Cache 2020",
"Author": "",
"Comments": " MB Road Chainage Cache 2020<\/SPAN><\/P><\/DIV>",
"Subject": "MB Road Chainage Cache 2020",
"Category": "",
"Version": "2.3.0",
"AntialiasingMode": "Fast",
"TextAntialiasingMode": "Force",
"Keywords": "Road Chainage,Cache,TRC,2020"
},
"supportsQueryDomains": true,
"capabilities": "Map,Data",
"supportedQueryFormats": "JSON, geoJSON, PBF",
"hasVersionedData": true,
"exportTilesAllowed": true,
"maxExportTilesCount": 100000,
"referenceScale": 0.0,
"datumTransformations": [
{
"geoTransforms": [
{
"wkid": 1505,
"latestWkid": 1505,
"transformForward": true,
"name": "Hartebeesthoek94_To_WGS_1984"
}
]
},
{
"geoTransforms": [
{
"wkid": 1505,
"latestWkid": 1505,
"transformForward": false,
"name": "Hartebeesthoek94_To_WGS_1984"
}
]
},
{
"geoTransforms": [
{
"wkid": 1505,
"latestWkid": 1505,
"transformForward": true,
"name": "Hartebeesthoek94_To_WGS_1984"
}
]
},
{
"geoTransforms": [
{
"wkid": 1505,
"latestWkid": 1505,
"transformForward": false,
"name": "Hartebeesthoek94_To_WGS_1984"
}
]
},
{
"geoTransforms": [
{
"wkid": 1505,
"latestWkid": 1505,
"transformForward": true,
"name": "Hartebeesthoek94_To_WGS_1984"
}
]
},
{
"geoTransforms": [
{
"wkid": 1505,
"latestWkid": 1505,
"transformForward": false,
"name": "Hartebeesthoek94_To_WGS_1984"
}
]
},
{
"geoTransforms": [
{
"wkid": 1505,
"latestWkid": 1505,
"transformForward": true,
"name": "Hartebeesthoek94_To_WGS_1984"
}
]
},
{
"geoTransforms": [
{
"wkid": 1505,
"latestWkid": 1505,
"transformForward": false,
"name": "Hartebeesthoek94_To_WGS_1984"
}
]
},
{
"geoTransforms": [
{
"wkid": 1505,
"latestWkid": 1505,
"transformForward": true,
"name": "Hartebeesthoek94_To_WGS_1984"
}
]
},
{
"geoTransforms": [
{
"wkid": 1505,
"latestWkid": 1505,
"transformForward": false,
"name": "Hartebeesthoek94_To_WGS_1984"
}
]
},
{
"geoTransforms": [
{
"wkid": 1505,
"latestWkid": 1505,
"transformForward": true,
"name": "Hartebeesthoek94_To_WGS_1984"
}
]
},
{
"geoTransforms": [
{
"wkid": 1505,
"latestWkid": 1505,
"transformForward": false,
"name": "Hartebeesthoek94_To_WGS_1984"
}
]
},
{
"geoTransforms": [
{
"wkid": 1505,
"latestWkid": 1505,
"transformForward": true,
"name": "Hartebeesthoek94_To_WGS_1984"
}
]
},
{
"geoTransforms": [
{
"wkid": 1505,
"latestWkid": 1505,
"transformForward": false,
"name": "Hartebeesthoek94_To_WGS_1984"
}
]
},
{
"geoTransforms": [
{
"wkid": 1505,
"latestWkid": 1505,
"transformForward": true,
"name": "Hartebeesthoek94_To_WGS_1984"
}
]
},
{
"geoTransforms": [
{
"wkid": 1505,
"latestWkid": 1505,
"transformForward": false,
"name": "Hartebeesthoek94_To_WGS_1984"
}
]
},
{
"geoTransforms": [
{
"wkid": 1505,
"latestWkid": 1505,
"transformForward": true,
"name": "Hartebeesthoek94_To_WGS_1984"
}
]
},
{
"geoTransforms": [
{
"wkid": 1505,
"latestWkid": 1505,
"transformForward": false,
"name": "Hartebeesthoek94_To_WGS_1984"
}
]
},
{
"geoTransforms": [
{
"wkid": 1505,
"latestWkid": 1505,
"transformForward": true,
"name": "Hartebeesthoek94_To_WGS_1984"
}
]
},
{
"geoTransforms": [
{
"wkid": 1505,
"latestWkid": 1505,
"transformForward": false,
"name": "Hartebeesthoek94_To_WGS_1984"
}
]
},
{
"geoTransforms": [
{
"wkid": 1505,
"latestWkid": 1505,
"transformForward": true,
"name": "Hartebeesthoek94_To_WGS_1984"
}
]
},
{
"geoTransforms": [
{
"wkid": 1505,
"latestWkid": 1505,
"transformForward": false,
"name": "Hartebeesthoek94_To_WGS_1984"
}
]
},
{
"geoTransforms": [
{
"wkid": 1505,
"latestWkid": 1505,
"transformForward": true,
"name": "Hartebeesthoek94_To_WGS_1984"
}
]
},
{
"geoTransforms": [
{
"wkid": 1505,
"latestWkid": 1505,
"transformForward": false,
"name": "Hartebeesthoek94_To_WGS_1984"
}
]
},
{
"geoTransforms": [
{
"wkid": 1505,
"latestWkid": 1505,
"transformForward": true,
"name": "Hartebeesthoek94_To_WGS_1984"
}
]
},
{
"geoTransforms": [
{
"wkid": 1505,
"latestWkid": 1505,
"transformForward": false,
"name": "Hartebeesthoek94_To_WGS_1984"
}
]
},
{
"geoTransforms": [
{
"wkid": 1505,
"latestWkid": 1505,
"transformForward": true,
"name": "Hartebeesthoek94_To_WGS_1984"
}
]
},
{
"geoTransforms": [
{
"wkid": 1505,
"latestWkid": 1505,
"transformForward": false,
"name": "Hartebeesthoek94_To_WGS_1984"
}
]
},
{
"geoTransforms": [
{
"wkid": 1505,
"latestWkid": 1505,
"transformForward": true,
"name": "Hartebeesthoek94_To_WGS_1984"
}
]
},
{
"geoTransforms": [
{
"wkid": 1505,
"latestWkid": 1505,
"transformForward": false,
"name": "Hartebeesthoek94_To_WGS_1984"
}
]
},
{
"geoTransforms": [
{
"wkid": 1505,
"latestWkid": 1505,
"transformForward": true,
"name": "Hartebeesthoek94_To_WGS_1984"
}
]
},
{
"geoTransforms": [
{
"wkid": 1505,
"latestWkid": 1505,
"transformForward": false,
"name": "Hartebeesthoek94_To_WGS_1984"
}
]
},
{
"geoTransforms": [
{
"wkid": 1505,
"latestWkid": 1505,
"transformForward": true,
"name": "Hartebeesthoek94_To_WGS_1984"
}
]
},
{
"geoTransforms": [
{
"wkid": 1505,
"latestWkid": 1505,
"transformForward": false,
"name": "Hartebeesthoek94_To_WGS_1984"
}
]
},
{
"geoTransforms": [
{
"wkid": 1505,
"latestWkid": 1505,
"transformForward": true,
"name": "Hartebeesthoek94_To_WGS_1984"
}
]
},
{
"geoTransforms": [
{
"wkid": 1505,
"latestWkid": 1505,
"transformForward": false,
"name": "Hartebeesthoek94_To_WGS_1984"
}
]
},
{
"geoTransforms": [
{
"wkid": 1505,
"latestWkid": 1505,
"transformForward": true,
"name": "Hartebeesthoek94_To_WGS_1984"
}
]
},
{
"geoTransforms": [
{
"wkid": 1505,
"latestWkid": 1505,
"transformForward": false,
"name": "Hartebeesthoek94_To_WGS_1984"
}
]
},
{
"geoTransforms": [
{
"wkid": 1505,
"latestWkid": 1505,
"transformForward": true,
"name": "Hartebeesthoek94_To_WGS_1984"
}
]
},
{
"geoTransforms": [
{
"wkid": 1505,
"latestWkid": 1505,
"transformForward": false,
"name": "Hartebeesthoek94_To_WGS_1984"
}
]
},
{
"geoTransforms": [
{
"wkid": 1505,
"latestWkid": 1505,
"transformForward": true,
"name": "Hartebeesthoek94_To_WGS_1984"
}
]
},
{
"geoTransforms": [
{
"wkid": 1505,
"latestWkid": 1505,
"transformForward": false,
"name": "Hartebeesthoek94_To_WGS_1984"
}
]
},
{
"geoTransforms": [
{
"wkid": 1505,
"latestWkid": 1505,
"transformForward": true,
"name": "Hartebeesthoek94_To_WGS_1984"
}
]
},
{
"geoTransforms": [
{
"wkid": 1505,
"latestWkid": 1505,
"transformForward": false,
"name": "Hartebeesthoek94_To_WGS_1984"
}
]
},
{
"geoTransforms": [
{
"wkid": 1505,
"latestWkid": 1505,
"transformForward": true,
"name": "Hartebeesthoek94_To_WGS_1984"
}
]
},
{
"geoTransforms": [
{
"wkid": 1505,
"latestWkid": 1505,
"transformForward": false,
"name": "Hartebeesthoek94_To_WGS_1984"
}
]
},
{
"geoTransforms": [
{
"wkid": 1505,
"latestWkid": 1505,
"transformForward": true,
"name": "Hartebeesthoek94_To_WGS_1984"
}
]
},
{
"geoTransforms": [
{
"wkid": 1505,
"latestWkid": 1505,
"transformForward": false,
"name": "Hartebeesthoek94_To_WGS_1984"
}
]
},
{
"geoTransforms": [
{
"wkid": 1505,
"latestWkid": 1505,
"transformForward": true,
"name": "Hartebeesthoek94_To_WGS_1984"
}
]
},
{
"geoTransforms": [
{
"wkid": 1505,
"latestWkid": 1505,
"transformForward": false,
"name": "Hartebeesthoek94_To_WGS_1984"
}
]
},
{
"geoTransforms": [
{
"wkid": 1505,
"latestWkid": 1505,
"transformForward": true,
"name": "Hartebeesthoek94_To_WGS_1984"
}
]
},
{
"geoTransforms": [
{
"wkid": 1505,
"latestWkid": 1505,
"transformForward": false,
"name": "Hartebeesthoek94_To_WGS_1984"
}
]
},
{
"geoTransforms": [
{
"wkid": 1505,
"latestWkid": 1505,
"transformForward": true,
"name": "Hartebeesthoek94_To_WGS_1984"
}
]
},
{
"geoTransforms": [
{
"wkid": 1505,
"latestWkid": 1505,
"transformForward": false,
"name": "Hartebeesthoek94_To_WGS_1984"
}
]
},
{
"geoTransforms": [
{
"wkid": 1505,
"latestWkid": 1505,
"transformForward": true,
"name": "Hartebeesthoek94_To_WGS_1984"
}
]
},
{
"geoTransforms": [
{
"wkid": 1505,
"latestWkid": 1505,
"transformForward": false,
"name": "Hartebeesthoek94_To_WGS_1984"
}
]
},
{
"geoTransforms": [
{
"wkid": 1505,
"latestWkid": 1505,
"transformForward": true,
"name": "Hartebeesthoek94_To_WGS_1984"
}
]
},
{
"geoTransforms": [
{
"wkid": 1505,
"latestWkid": 1505,
"transformForward": false,
"name": "Hartebeesthoek94_To_WGS_1984"
}
]
},
{
"geoTransforms": [
{
"wkid": 1505,
"latestWkid": 1505,
"transformForward": true,
"name": "Hartebeesthoek94_To_WGS_1984"
}
]
},
{
"geoTransforms": [
{
"wkid": 1505,
"latestWkid": 1505,
"transformForward": false,
"name": "Hartebeesthoek94_To_WGS_1984"
}
]
},
{
"geoTransforms": [
{
"wkid": 1505,
"latestWkid": 1505,
"transformForward": true,
"name": "Hartebeesthoek94_To_WGS_1984"
}
]
},
{
"geoTransforms": [
{
"wkid": 1505,
"latestWkid": 1505,
"transformForward": false,
"name": "Hartebeesthoek94_To_WGS_1984"
}
]
},
{
"geoTransforms": [
{
"wkid": 1505,
"latestWkid": 1505,
"transformForward": true,
"name": "Hartebeesthoek94_To_WGS_1984"
}
]
},
{
"geoTransforms": [
{
"wkid": 1505,
"latestWkid": 1505,
"transformForward": false,
"name": "Hartebeesthoek94_To_WGS_1984"
}
]
},
{
"geoTransforms": [
{
"wkid": 1505,
"latestWkid": 1505,
"transformForward": true,
"name": "Hartebeesthoek94_To_WGS_1984"
}
]
},
{
"geoTransforms": [
{
"wkid": 1505,
"latestWkid": 1505,
"transformForward": false,
"name": "Hartebeesthoek94_To_WGS_1984"
}
]
},
{
"geoTransforms": [
{
"wkid": 1505,
"latestWkid": 1505,
"transformForward": true,
"name": "Hartebeesthoek94_To_WGS_1984"
}
]
},
{
"geoTransforms": [
{
"wkid": 1505,
"latestWkid": 1505,
"transformForward": false,
"name": "Hartebeesthoek94_To_WGS_1984"
}
]
},
{
"geoTransforms": [
{
"wkid": 1505,
"latestWkid": 1505,
"transformForward": true,
"name": "Hartebeesthoek94_To_WGS_1984"
}
]
},
{
"geoTransforms": [
{
"wkid": 1505,
"latestWkid": 1505,
"transformForward": false,
"name": "Hartebeesthoek94_To_WGS_1984"
}
]
},
{
"geoTransforms": [
{
"wkid": 1505,
"latestWkid": 1505,
"transformForward": true,
"name": "Hartebeesthoek94_To_WGS_1984"
}
]
},
{
"geoTransforms": [
{
"wkid": 1505,
"latestWkid": 1505,
"transformForward": false,
"name": "Hartebeesthoek94_To_WGS_1984"
}
]
},
{
"geoTransforms": [
{
"wkid": 1505,
"latestWkid": 1505,
"transformForward": true,
"name": "Hartebeesthoek94_To_WGS_1984"
}
]
},
{
"geoTransforms": [
{
"wkid": 1505,
"latestWkid": 1505,
"transformForward": false,
"name": "Hartebeesthoek94_To_WGS_1984"
}
]
},
{
"geoTransforms": [
{
"wkid": 1505,
"latestWkid": 1505,
"transformForward": true,
"name": "Hartebeesthoek94_To_WGS_1984"
}
]
},
{
"geoTransforms": [
{
"wkid": 1505,
"latestWkid": 1505,
"transformForward": false,
"name": "Hartebeesthoek94_To_WGS_1984"
}
]
},
{
"geoTransforms": [
{
"wkid": 1505,
"latestWkid": 1505,
"transformForward": true,
